BEGIN:VCALENDAR
VERSION:2.0
PRODID:-//Northwest Barrie United Church - ECPv6.15.20//NONSGML v1.0//EN
CALSCALE:GREGORIAN
METHOD:PUBLISH
X-ORIGINAL-URL:https://www.nwbuc.ca
X-WR-CALDESC:Events for Northwest Barrie United Church
REFRESH-INTERVAL;VALUE=DURATION:PT1H
X-Robots-Tag:noindex
X-PUBLISHED-TTL:PT1H
BEGIN:VTIMEZONE
TZID:America/Toronto
BEGIN:DAYLIGHT
TZOFFSETFROM:-0500
TZOFFSETTO:-0400
TZNAME:EDT
DTSTART:20240310T070000
END:DAYLIGHT
BEGIN:STANDARD
TZOFFSETFROM:-0400
TZOFFSETTO:-0500
TZNAME:EST
DTSTART:20241103T060000
END:STANDARD
BEGIN:DAYLIGHT
TZOFFSETFROM:-0500
TZOFFSETTO:-0400
TZNAME:EDT
DTSTART:20250309T070000
END:DAYLIGHT
BEGIN:STANDARD
TZOFFSETFROM:-0400
TZOFFSETTO:-0500
TZNAME:EST
DTSTART:20251102T060000
END:STANDARD
BEGIN:DAYLIGHT
TZOFFSETFROM:-0500
TZOFFSETTO:-0400
TZNAME:EDT
DTSTART:20260308T070000
END:DAYLIGHT
BEGIN:STANDARD
TZOFFSETFROM:-0400
TZOFFSETTO:-0500
TZNAME:EST
DTSTART:20261101T060000
END:STANDARD
END:VTIMEZONE
BEGIN:VEVENT
DTSTART;TZID=America/Toronto:20251212T180000
DTEND;TZID=America/Toronto:20251212T203000
DTSTAMP:20260423T074355
CREATED:20241120T205842Z
LAST-MODIFIED:20251113T235935Z
UID:10000464-1765562400-1765571400@www.nwbuc.ca
SUMMARY:Christmas in the Country
DESCRIPTION:Join us for a magical evening on Friday\, December 12\, starting at 6:00 pm! Dress warm and cozy as we gather around the campfire\, sing along to festive Christmas carols\, enjoy hot chocolate and s’mores\, and take a peaceful candlelit hike. If we’re good\, we may even get a special visit from a very special guest! 🎄✨ \nThe location is in New Lowell at Carol and Jack De Winter’s home. Directions will be sent out closer to the date. \nDon’t miss out on this unforgettable evening of holiday cheer. Be sure to sign up at the Welcome Table or email Sharon at general@nwbuc.ca.
URL:https://www.nwbuc.ca/event/christmas-in-the-country/
LOCATION:Northwest Barrie United Church\, 464 Ferndale Drive North\, Barrie\, Ontario\, L4N 7X6\, Canada
CATEGORIES:Family
ATTACH;FMTTYPE=image/jpeg:https://www.nwbuc.ca/wp-content/uploads/2024/11/christmas-in-the-country.jpg
ORGANIZER;CN="NWBUC":MAILTO:office@nwbuc.ca
END:VEVENT
END:VCALENDAR