BEGIN:VCALENDAR
VERSION:2.0
PRODID:-//Northwest Barrie United Church - ECPv6.15.20//NONSGML v1.0//EN
CALSCALE:GREGORIAN
METHOD:PUBLISH
X-ORIGINAL-URL:https://www.nwbuc.ca
X-WR-CALDESC:Events for Northwest Barrie United Church
REFRESH-INTERVAL;VALUE=DURATION:PT1H
X-Robots-Tag:noindex
X-PUBLISHED-TTL:PT1H
BEGIN:VTIMEZONE
TZID:America/Toronto
BEGIN:DAYLIGHT
TZOFFSETFROM:-0500
TZOFFSETTO:-0400
TZNAME:EDT
DTSTART:20230312T070000
END:DAYLIGHT
BEGIN:STANDARD
TZOFFSETFROM:-0400
TZOFFSETTO:-0500
TZNAME:EST
DTSTART:20231105T060000
END:STANDARD
BEGIN:DAYLIGHT
TZOFFSETFROM:-0500
TZOFFSETTO:-0400
TZNAME:EDT
DTSTART:20240310T070000
END:DAYLIGHT
BEGIN:STANDARD
TZOFFSETFROM:-0400
TZOFFSETTO:-0500
TZNAME:EST
DTSTART:20241103T060000
END:STANDARD
BEGIN:DAYLIGHT
TZOFFSETFROM:-0500
TZOFFSETTO:-0400
TZNAME:EDT
DTSTART:20250309T070000
END:DAYLIGHT
BEGIN:STANDARD
TZOFFSETFROM:-0400
TZOFFSETTO:-0500
TZNAME:EST
DTSTART:20251102T060000
END:STANDARD
BEGIN:DAYLIGHT
TZOFFSETFROM:-0500
TZOFFSETTO:-0400
TZNAME:EDT
DTSTART:20260308T070000
END:DAYLIGHT
BEGIN:STANDARD
TZOFFSETFROM:-0400
TZOFFSETTO:-0500
TZNAME:EST
DTSTART:20261101T060000
END:STANDARD
END:VTIMEZONE
BEGIN:VEVENT
DTSTART;VALUE=DATE:20251008
DTEND;VALUE=DATE:20251101
DTSTAMP:20260419T084716
CREATED:20251008T171450Z
LAST-MODIFIED:20251008T181137Z
UID:10000453-1759881600-1761955199@www.nwbuc.ca
SUMMARY:Wishing Well
DESCRIPTION:For the month of October\, the Outreach Team is collecting items for Senior’s Wish. \n\n\n\n(Clothing Items Sizes Small To 3X) \n\n\nT-shirts and Undershirts \n\n\nCozy Sweaters/Sweatshirts/Track Pants \n\n\nFull Slippers with non-slip soles \n\n\nNightgowns & PJs – Robes \n\n\nCostume Jewelry \n\n\nShampoo/body wash \n\n\n\nStuffed toys and Soft dolls \n\n\nPuzzle Books (Lg Print) & Magazines \n\n\nAdult Colouring Books/coloured pencils \n\n\nLotions – non-scented to light scent \n\n\nCandies & Diabetic Treats \n\n\nGrocery Store Gift Cards \n\n\n\n\n\n\nItems can be left in the Wishing Well in the lobby. Thank you!
URL:https://www.nwbuc.ca/event/wishing-well-5/
LOCATION:Northwest Barrie United Church\, 464 Ferndale Drive North\, Barrie\, Ontario\, L4N 7X6\, Canada
CATEGORIES:Wishing Well
ATTACH;FMTTYPE=image/jpeg:https://www.nwbuc.ca/wp-content/uploads/2024/09/november-wishing-well.jpg
ORGANIZER;CN="NWBUC":MAILTO:office@nwbuc.ca
END:VEVENT
BEGIN:VEVENT
DTSTART;VALUE=DATE:20240401
DTEND;VALUE=DATE:20240501
DTSTAMP:20260419T084716
CREATED:20240406T185333Z
LAST-MODIFIED:20240406T190107Z
UID:10000328-1711929600-1714521599@www.nwbuc.ca
SUMMARY:Wishing Well
DESCRIPTION:For the month of April the Outreach Team is collecting items for the Loads of Love\, Barrie Families Unite. \n\nstain remover\ndryer sheets\ndrinks (juice and water) and non perishable snacks\nquarters and loonies – please enclose in a Zip Lock type bag\n\nItems can be left in the Wishing Well in the lobby. Thank you!
URL:https://www.nwbuc.ca/event/wishing-well-4/
LOCATION:Northwest Barrie United Church\, 464 Ferndale Drive North\, Barrie\, Ontario\, L4N 7X6\, Canada
CATEGORIES:Wishing Well
ATTACH;FMTTYPE=image/png:https://www.nwbuc.ca/wp-content/uploads/2024/02/bfu-logo_main.png
ORGANIZER;CN="NWBUC":MAILTO:office@nwbuc.ca
END:VEVENT
BEGIN:VEVENT
DTSTART;VALUE=DATE:20240301
DTEND;VALUE=DATE:20240401
DTSTAMP:20260419T084716
CREATED:20240313T194320Z
LAST-MODIFIED:20240313T194320Z
UID:10000325-1709251200-1711929599@www.nwbuc.ca
SUMMARY:Wishing Well
DESCRIPTION:For the month of March the Outreach Team is collecting items for the Women and Children’s Shelter of Barrie.  \n\npasta sauce\, soups\, peanut butter\, cookies\, granola bars\, pre-made meals.\ntoilet paper\, paper towels\nbaking supplies – sugar (white and brown)\, baking soda/powder\nhand body lotions\, shampoo\, conditioner\n\nItems can be left in the Wishing Well in the lobby. Thank you!
URL:https://www.nwbuc.ca/event/wishing-well-3/
LOCATION:Northwest Barrie United Church\, 464 Ferndale Drive North\, Barrie\, Ontario\, L4N 7X6\, Canada
CATEGORIES:Wishing Well
ATTACH;FMTTYPE=image/jpeg:https://www.nwbuc.ca/wp-content/uploads/2024/03/download-1.jpg
ORGANIZER;CN="NWBUC":MAILTO:office@nwbuc.ca
END:VEVENT
BEGIN:VEVENT
DTSTART;VALUE=DATE:20240201
DTEND;VALUE=DATE:20240301
DTSTAMP:20260419T084716
CREATED:20240214T183645Z
LAST-MODIFIED:20240214T183645Z
UID:10000305-1706745600-1709251199@www.nwbuc.ca
SUMMARY:February Wishing Well
DESCRIPTION:For the month of February\, the Outreach Team is collecting items for Barrie Families Unite.  Items can be left in the Wishing Well in the lobby. \nWhat do they need……New or Gently Used Kitchen Supplies \n\nPots & Pans\n\n\nGlassware\n\n\nCutlery\n\n\nCooking utensils\n\n\nPlates/bowls\n\n\nToasters\n\n\nKettles\n\n\nMicrowaves\n\n\nTowels/cloths\n\n\nBakeware
URL:https://www.nwbuc.ca/event/february-wishing-well/
LOCATION:Northwest Barrie United Church\, 464 Ferndale Drive North\, Barrie\, Ontario\, L4N 7X6\, Canada
CATEGORIES:Wishing Well
ATTACH;FMTTYPE=image/png:https://www.nwbuc.ca/wp-content/uploads/2024/02/bfu-new-horizontal-logo.png
ORGANIZER;CN="NWBUC":MAILTO:office@nwbuc.ca
END:VEVENT
END:VCALENDAR