BEGIN:VCALENDAR
VERSION:2.0
PRODID:-//Northwest Barrie United Church - ECPv6.15.20//NONSGML v1.0//EN
CALSCALE:GREGORIAN
METHOD:PUBLISH
X-ORIGINAL-URL:https://www.nwbuc.ca
X-WR-CALDESC:Events for Northwest Barrie United Church
REFRESH-INTERVAL;VALUE=DURATION:PT1H
X-Robots-Tag:noindex
X-PUBLISHED-TTL:PT1H
BEGIN:VTIMEZONE
TZID:America/Toronto
BEGIN:DAYLIGHT
TZOFFSETFROM:-0500
TZOFFSETTO:-0400
TZNAME:EDT
DTSTART:20240310T070000
END:DAYLIGHT
BEGIN:STANDARD
TZOFFSETFROM:-0400
TZOFFSETTO:-0500
TZNAME:EST
DTSTART:20241103T060000
END:STANDARD
BEGIN:DAYLIGHT
TZOFFSETFROM:-0500
TZOFFSETTO:-0400
TZNAME:EDT
DTSTART:20250309T070000
END:DAYLIGHT
BEGIN:STANDARD
TZOFFSETFROM:-0400
TZOFFSETTO:-0500
TZNAME:EST
DTSTART:20251102T060000
END:STANDARD
BEGIN:DAYLIGHT
TZOFFSETFROM:-0500
TZOFFSETTO:-0400
TZNAME:EDT
DTSTART:20260308T070000
END:DAYLIGHT
BEGIN:STANDARD
TZOFFSETFROM:-0400
TZOFFSETTO:-0500
TZNAME:EST
DTSTART:20261101T060000
END:STANDARD
END:VTIMEZONE
BEGIN:VEVENT
DTSTART;VALUE=DATE:20251008
DTEND;VALUE=DATE:20251101
DTSTAMP:20260423T172710
CREATED:20251008T171450Z
LAST-MODIFIED:20251008T181137Z
UID:10000453-1759881600-1761955199@www.nwbuc.ca
SUMMARY:Wishing Well
DESCRIPTION:For the month of October\, the Outreach Team is collecting items for Senior’s Wish. \n\n\n\n(Clothing Items Sizes Small To 3X) \n\n\nT-shirts and Undershirts \n\n\nCozy Sweaters/Sweatshirts/Track Pants \n\n\nFull Slippers with non-slip soles \n\n\nNightgowns & PJs – Robes \n\n\nCostume Jewelry \n\n\nShampoo/body wash \n\n\n\nStuffed toys and Soft dolls \n\n\nPuzzle Books (Lg Print) & Magazines \n\n\nAdult Colouring Books/coloured pencils \n\n\nLotions – non-scented to light scent \n\n\nCandies & Diabetic Treats \n\n\nGrocery Store Gift Cards \n\n\n\n\n\n\nItems can be left in the Wishing Well in the lobby. Thank you!
URL:https://www.nwbuc.ca/event/wishing-well-5/
LOCATION:Northwest Barrie United Church\, 464 Ferndale Drive North\, Barrie\, Ontario\, L4N 7X6\, Canada
CATEGORIES:Wishing Well
ATTACH;FMTTYPE=image/jpeg:https://www.nwbuc.ca/wp-content/uploads/2024/09/november-wishing-well.jpg
ORGANIZER;CN="NWBUC":MAILTO:office@nwbuc.ca
END:VEVENT
END:VCALENDAR