BEGIN:VCALENDAR
VERSION:2.0
PRODID:-//Northwest Barrie United Church - ECPv6.15.20//NONSGML v1.0//EN
CALSCALE:GREGORIAN
METHOD:PUBLISH
X-ORIGINAL-URL:https://www.nwbuc.ca
X-WR-CALDESC:Events for Northwest Barrie United Church
REFRESH-INTERVAL;VALUE=DURATION:PT1H
X-Robots-Tag:noindex
X-PUBLISHED-TTL:PT1H
BEGIN:VTIMEZONE
TZID:America/Toronto
BEGIN:DAYLIGHT
TZOFFSETFROM:-0500
TZOFFSETTO:-0400
TZNAME:EDT
DTSTART:20240310T070000
END:DAYLIGHT
BEGIN:STANDARD
TZOFFSETFROM:-0400
TZOFFSETTO:-0500
TZNAME:EST
DTSTART:20241103T060000
END:STANDARD
BEGIN:DAYLIGHT
TZOFFSETFROM:-0500
TZOFFSETTO:-0400
TZNAME:EDT
DTSTART:20250309T070000
END:DAYLIGHT
BEGIN:STANDARD
TZOFFSETFROM:-0400
TZOFFSETTO:-0500
TZNAME:EST
DTSTART:20251102T060000
END:STANDARD
BEGIN:DAYLIGHT
TZOFFSETFROM:-0500
TZOFFSETTO:-0400
TZNAME:EDT
DTSTART:20260308T070000
END:DAYLIGHT
BEGIN:STANDARD
TZOFFSETFROM:-0400
TZOFFSETTO:-0500
TZNAME:EST
DTSTART:20261101T060000
END:STANDARD
END:VTIMEZONE
BEGIN:VEVENT
DTSTART;TZID=America/Toronto:20251207T190000
DTEND;TZID=America/Toronto:20251207T200000
DTSTAMP:20260421T084030
CREATED:20231020T144312Z
LAST-MODIFIED:20251114T000607Z
UID:10000057-1765134000-1765137600@www.nwbuc.ca
SUMMARY:Comfort Service
DESCRIPTION:In partnership with Legacy Funeral\, our Annual Christmas Comfort service will take place on Sunday\, December 7th\, at 7:00 p.m. Join us for an evening of gentle reflection by candlelight\, sharing a message of hope. This service is open to anyone who has experienced loss—a loved one\, a friendship\, a relationship\, or even a job. It’s a time to honour all the emotions accompanying loss and find comfort together.
URL:https://www.nwbuc.ca/event/comfort-service-2/
LOCATION:Northwest Barrie United Church\, 464 Ferndale Drive North\, Barrie\, Ontario\, L4N 7X6\, Canada
CATEGORIES:Service
ATTACH;FMTTYPE=image/jpeg:https://www.nwbuc.ca/wp-content/uploads/2023/10/comfort-service-2025.jpg
ORGANIZER;CN="NWBUC":MAILTO:office@nwbuc.ca
END:VEVENT
BEGIN:VEVENT
DTSTART;TZID=America/Toronto:20250914T063000
DTEND;TZID=America/Toronto:20250914T080000
DTSTAMP:20260421T084030
CREATED:20230913T041757Z
LAST-MODIFIED:20250908T000518Z
UID:10000038-1757831400-1757836800@www.nwbuc.ca
SUMMARY:Welcome Back Sunday
DESCRIPTION:Sunday September 14th will be a special “welcome back” service. When you arrive there will be some special surprises during the service\, the choir will be back and during refreshments you’ll have a chance to get re-acquainted. It will be great to reconnect!
URL:https://www.nwbuc.ca/event/welcome-back-sunday/
LOCATION:Northwest Barrie United Church\, 464 Ferndale Drive North\, Barrie\, Ontario\, L4N 7X6\, Canada
CATEGORIES:Service
ATTACH;FMTTYPE=image/jpeg:https://www.nwbuc.ca/wp-content/uploads/2023/09/welcome-back-sunday.jpg
ORGANIZER;CN="Sharon Foulkes":MAILTO:office@nwbuc.ca
END:VEVENT
BEGIN:VEVENT
DTSTART;TZID=America/Toronto:20250608T103000
DTEND;TZID=America/Toronto:20250608T120000
DTSTAMP:20260421T084030
CREATED:20250507T173124Z
LAST-MODIFIED:20250516T144042Z
UID:10000545-1749378600-1749384000@www.nwbuc.ca
SUMMARY:Anniversary Sunday
DESCRIPTION:June 8th\, 2025 \nCelebrating 100 Years! \n10:30 am service with a lunch reception to follow (no cost) \nTheme “On Fire For The Future!” \nCome dressed in red\, yellow or orange.
URL:https://www.nwbuc.ca/event/anniversary-sunda/
LOCATION:Northwest Barrie United Church\, 464 Ferndale Drive North\, Barrie\, Ontario\, L4N 7X6\, Canada
CATEGORIES:Service
ATTACH;FMTTYPE=image/jpeg:https://www.nwbuc.ca/wp-content/uploads/2025/05/anniversary-sunday.jpg
ORGANIZER;CN="NWBUC":MAILTO:office@nwbuc.ca
END:VEVENT
END:VCALENDAR