BEGIN:VCALENDAR
VERSION:2.0
PRODID:-//Northwest Barrie United Church - ECPv6.15.20//NONSGML v1.0//EN
CALSCALE:GREGORIAN
METHOD:PUBLISH
X-WR-CALNAME:Northwest Barrie United Church
X-ORIGINAL-URL:https://www.nwbuc.ca
X-WR-CALDESC:Events for Northwest Barrie United Church
REFRESH-INTERVAL;VALUE=DURATION:PT1H
X-Robots-Tag:noindex
X-PUBLISHED-TTL:PT1H
BEGIN:VTIMEZONE
TZID:America/Toronto
BEGIN:DAYLIGHT
TZOFFSETFROM:-0500
TZOFFSETTO:-0400
TZNAME:EDT
DTSTART:20240310T070000
END:DAYLIGHT
BEGIN:STANDARD
TZOFFSETFROM:-0400
TZOFFSETTO:-0500
TZNAME:EST
DTSTART:20241103T060000
END:STANDARD
BEGIN:DAYLIGHT
TZOFFSETFROM:-0500
TZOFFSETTO:-0400
TZNAME:EDT
DTSTART:20250309T070000
END:DAYLIGHT
BEGIN:STANDARD
TZOFFSETFROM:-0400
TZOFFSETTO:-0500
TZNAME:EST
DTSTART:20251102T060000
END:STANDARD
BEGIN:DAYLIGHT
TZOFFSETFROM:-0500
TZOFFSETTO:-0400
TZNAME:EDT
DTSTART:20260308T070000
END:DAYLIGHT
BEGIN:STANDARD
TZOFFSETFROM:-0400
TZOFFSETTO:-0500
TZNAME:EST
DTSTART:20261101T060000
END:STANDARD
END:VTIMEZONE
BEGIN:VEVENT
DTSTART;TZID=America/Toronto:20251204T100000
DTEND;TZID=America/Toronto:20251204T110000
DTSTAMP:20260419T161810
CREATED:20250924T193521Z
LAST-MODIFIED:20251114T002752Z
UID:10000514-1764842400-1764846000@www.nwbuc.ca
SUMMARY:Study Group | How We Learn To Be Brave: Decisive Moments In Life And Faith
DESCRIPTION:Rev. Phil will be starting a new study group on the book\, “How We Learn To Be Brave: Decisive Moments In Life And Faith” by Mariann Edgar Budde.   Each session will take place on Thursday morning from 10 am to 11 am over Zoom.  The sessions are as follows: \nOctober 23 – Chapter 1 – “Deciding To Go” \nOctober 30 – Chapter 2 – “Deciding To Stay” \nNovember 6 – Chapter 3 – “Deciding To Start” \nNovember 13 – Chapter 4 – “Accepting What You Do Not Choose” \nNovember 20 – Chapter 5 – “Stepping Up To The Plate” \nNovember 27 – Chapter 6 – “The Inevitable Letdown” \nDecember 4 – Chapter 7 – “The Hidden Virtue Of Perseverance” \nBooks can be purchased at Indigo.ca or Amazon.  Each Tuesday\, Rev. Phil will send out the questions for that Thursday’s session and the Zoom link so you can take part from the comfort of your home. \nTo sign up\, please email Rev. Phil at minister@nwbuc.ca \nPlease note\, if you can’t attend the sessions but would like to read the book\, please do so\, and then join Rev. Phil on Wednesday\, November 26th at the Cottage Canoe for “Drinks and Discussions”\, and together we will share our thoughts on the book.
URL:https://www.nwbuc.ca/event/study-group-hunting-magic-eels-recovering-an-enchanted-faith-in-a-skeptical-age-2-2/2025-12-04/
LOCATION:Zoom
CATEGORIES:Book Study Group
ATTACH;FMTTYPE=image/jpeg:https://www.nwbuc.ca/wp-content/uploads/2025/01/book-study-fall-2025.jpg
ORGANIZER;CN="NWBUC":MAILTO:office@nwbuc.ca
END:VEVENT
END:VCALENDAR